

BEGIN:VCALENDAR
VERSION:2.0
PRODID:-//eventon.com NONSGML v1.0//EN
BEGIN:VEVENT
UID:69e4ecd2cff38
DTSTAMP:20260419T165514
DTSTART:20220512T220000Z
DTEND:20220517T215900Z
TZID:Europe/Warsaw
LOCATION:
SUMMARY:"NAWET MYSZY IDĄ DO NIEBA" (2D DUBBING)
DESCRIPTION: Kiedy gramy?  &nbsp; piątek\,  13 maja\,  godzina 17.00 sobota\,  14 maja\,  godzina 17.00 niedziela\,  15 maja\,  godzina 17.00 poniedziałek\,   16 maja\,  godzina 17.00 wtorek\,  17 maja\,  godzina 17.00 Czy mysz i lis mogą być przyjaciółmi? Kiedy uparta Czmyszka i strachliwy Rudeusz trafiają do nieba\,  nic na to nie wskazuje. W nowym[..]
URL:https://mdk.lubliniec.pl/events/nawet-myszy-ida-do-nieba-2d-dubbing/
END:VEVENT
END:VCALENDAR