

BEGIN:VCALENDAR
VERSION:2.0
PRODID:-//eventon.com NONSGML v1.0//EN
BEGIN:VEVENT
UID:69e4ec9dcee75
DTSTAMP:20260419T165421
DTSTART:20220505T220000Z
DTEND:20220510T215900Z
TZID:Europe/Warsaw
LOCATION:
SUMMARY:"NIEZNOŚNY CIĘŻAR WIELKIEGO TALENTU" (2D NAPISY)
DESCRIPTION: Kiedy gramy?  &nbsp; piątek\,  6 maja\,  godzina 20.00 sobota\,  7 maja\,  godzina 20.00 niedziela\,  8 maja\,  godzina 20.00 poniedziałek\,   9 maja\,  godzina 20.00 wtorek\,  10 maja\,  godzina 20.00 Potrzebujący zastrzyku gotówki hollywoodzki gwiazdor Nicolas Cage przyjmuje zaproszenie do posiadłości tajemniczego milionera\,  nie podejrzewając\,  że staje się uczestnikiem bardzo niebezpiecznej gry. &nbsp;[..]
URL:https://mdk.lubliniec.pl/events/nieznosny-ciezar-wielkiego-talentu-2d-napisy/
END:VEVENT
END:VCALENDAR