

BEGIN:VCALENDAR
VERSION:2.0
PRODID:-//eventon.com NONSGML v1.0//EN
BEGIN:VEVENT
UID:69e4ec9e185ce
DTSTAMP:20260419T165422
DTSTART:20220407T220000Z
DTEND:20220412T215900Z
TZID:Europe/Warsaw
LOCATION:
SUMMARY:"ZAJĄC MAX: MISJA PISANKA" 2D DUBBING
DESCRIPTION: Kiedy gramy?  &nbsp; piątek\,  8 kwietnia\,  godzina 17.00 sobota\,  9 kwietnia\,  godzina 17.00 niedziela\,  10 kwietnia\,  godzina 17.00 poniedziałek\,  11 kwietnia\,  godzina 17.00 wtorek\,  12 kwietnia\,  godzina 17.00 &nbsp; Młody\,  ale odważny Zając Max zostaje wybrany przez magiczną Złotą Pisankę\,  aby dołączyć do Zajęczej Akademii i rozpocząć trening Mistrza. Wspólnie[..]
URL:https://mdk.lubliniec.pl/events/zajac-max-misja-pisanka-2d-dubbing/
END:VEVENT
END:VCALENDAR