

BEGIN:VCALENDAR
VERSION:2.0
PRODID:-//eventon.com NONSGML v1.0//EN
BEGIN:VEVENT
UID:69e4ecbd93557
DTSTAMP:20260419T165453
DTSTART:20211005T090000Z
DTEND:20211005T110000Z
TZID:Europe/Warsaw
LOCATION:
SUMMARY:Kreatywni 60+ // guzikowy obraz
DESCRIPTION: Rozpędzamy się z zajęciami dla seniorów i seniorek w ramach cyklu &#8222;Kreatywni 60+&#8221; 🙂 W październiku zapraszamy na warsztaty: &#8211; 5 października // godz.11.00 „Guzikowy obraz” &#8211; 19 października // godz.11.00 „Ozdobny berecik” Zapisy w Galerii pod Glinianym Aniołem codziennie\,  od godziny 15.00 &#8211; osobiście lub telefonicznie (34 351 06[..]
URL:https://mdk.lubliniec.pl/events/kreatywni-60-guzikowy-obraz/
END:VEVENT
END:VCALENDAR