

BEGIN:VCALENDAR
VERSION:2.0
PRODID:-//eventon.com NONSGML v1.0//EN
BEGIN:VEVENT
UID:69e4daf0843b6
DTSTAMP:20260419T153856
DTSTART:20211101T230000Z
DTEND:20211103T225900Z
TZID:Europe/Warsaw
LOCATION:
SUMMARY:WILK NA 100% (2D DUBBING)
DESCRIPTION: Kiedy gramy?  wtorek\,  2 listopada\,  godzina 17.30 środa\,  3 listopada\,  godzina 17.30 Freddy Lupin ma prawie trzynaście lat i jest dziedzicem znamienitego rodu wilkołaków. Tak\,  tak\,  wilkołaki żyją wśród nas! Za dnia wyglądają jak ludzie\,  ale nocami zmieniają się w wilki. Freddy właśnie w dniu swoich trzynastych urodzin po raz pierwszy[..]
URL:https://mdk.lubliniec.pl/events/wilk-na-100-2d-dubbing-kopiuj/
END:VEVENT
END:VCALENDAR