

BEGIN:VCALENDAR
VERSION:2.0
PRODID:-//eventon.com NONSGML v1.0//EN
BEGIN:VEVENT
UID:69e4ecb561a60
DTSTAMP:20260419T165445
DTSTART:20210701T163000Z
DTEND:20210701T173000Z
TZID:Europe/Warsaw
LOCATION:
SUMMARY:Letnia szkoła tańca towarzyskiego
DESCRIPTION: W te wakacje każdy mieszkaniec Lublińca może nauczyć się podstaw tańca towarzyskiego! W (prawie) każdy czwartek na skwerze przed MDK nasza instruktorka – Katarzyna Koszczyk – będzie uczyć podstawowych kroków. Skorzystać z tych lekcji może każdy – tutaj nie liczy się wiek\,  a chęci! 🙂 W tym przypadku nie ma[..]
URL:https://mdk.lubliniec.pl/events/letnia-szkola-tanca-towarzyskiego/
END:VEVENT
END:VCALENDAR