

BEGIN:VCALENDAR
VERSION:2.0
PRODID:-//eventon.com NONSGML v1.0//EN
BEGIN:VEVENT
UID:69e4db15813d2
DTSTAMP:20260419T153933
DTSTART:20210617T220000Z
DTEND:20210622T215900Z
TZID:Europe/Warsaw
LOCATION:
SUMMARY:Kino Karolinka: "Na rauszu"
DESCRIPTION: Kiedy gramy?  piątek\,  18 czerwca\,  godzina 20.00 sobota\,  19 czerwca\,  godzina 20.00 niedziela\,  20 czerwca\,  godzina 20.00 poniedziałek\,  21czerwca\,  godzina 20.00 wtorek\,  22 czerwca\,  godzina 20.00 Thomas Vinterberg nazywa swój najnowszy film – przebój festiwali w Cannes\,  Toronto i San Sebastián – pochwałą życia\,  a nie picia. Tylko czy umiemy jeszcze przeżywać stany upojenia bez procentów? „Na rauszu” opowiada o[..]
URL:https://mdk.lubliniec.pl/events/kino-karolinka-na-rauszu/
END:VEVENT
END:VCALENDAR