

BEGIN:VCALENDAR
VERSION:2.0
PRODID:-//eventon.com NONSGML v1.0//EN
BEGIN:VEVENT
UID:69e503bebad49
DTSTAMP:20260419T183302
DTSTART:20210527T220000Z
DTEND:20210601T215900Z
TZID:Europe/Warsaw
LOCATION:
SUMMARY:Kino Karolinka: "Co w duszy gra" (3D\,  dubbing)
DESCRIPTION: Kiedy gramy?  piątek\,  28 maja\,  godzina 15.00 sobota\,  29 maja\,  godzina 15.00 niedziela\,  30 maja\,  godzina 15.00 poniedziałek\,  31 maja\,  godzina 15.00 wtorek\,  1 czerwca\,  godzina 15.00 Animacja twórców &#8222;W głowie się nie mieści&#8221; i &#8222;Coco&#8221;. Tym razem śledzimy losy Joe Gardnera\,  który prowadzi zespół muzyczny w gimnazjum. Jego prawdziwą pasją[..]
URL:https://mdk.lubliniec.pl/events/kino-karolinka-co-w-duszy-gra-3d-dubbing/
END:VEVENT
END:VCALENDAR