

BEGIN:VCALENDAR
VERSION:2.0
PRODID:-//eventon.com NONSGML v1.0//EN
BEGIN:VEVENT
UID:69e4bffdc1a81
DTSTAMP:20260419T134357
DTSTART:20210304T230000Z
DTEND:20210309T225900Z
TZID:Europe/Warsaw
LOCATION:
SUMMARY:Kino Karolinka: "Palm Springs" (2D\,  napisy)
DESCRIPTION: Kiedy gramy?  piątek\,  5 marca\,  godzina 19.45 sobota\,  6 marca\,  godzina 19.45 niedziela\,  7 marca\,  godzina 19.45 poniedziałek\,  8 marca\,  godzina 19.45 wtorek\,  9 marca\,  godzina 19.45 Beztroski Nyles (Andy Samberg) i zadeklarowana singielka Sarah (Cristin Milioti) poznają się na weselu w Palm Springs. Sztywna impreza niespodziewanie odsłania swój wybuchowy potencjał\,  kiedy okazuje się\,  że oboje zostali uwięzieni w pętli czasowej i w kółko przeżywają ten sam[..]
URL:https://mdk.lubliniec.pl/events/kino-karolinka-palm-springs/
END:VEVENT
END:VCALENDAR