

BEGIN:VCALENDAR
VERSION:2.0
PRODID:-//eventon.com NONSGML v1.0//EN
BEGIN:VEVENT
UID:69e4ec9bdf553
DTSTAMP:20260419T165419
DTSTART:20191130T230000Z
DTEND:20191231T225900Z
TZID:Europe/Warsaw
LOCATION:
SUMMARY:Kino Karolinka: "Nieplanowane"
DESCRIPTION: „Gdybyś miał zobaczyć w tym roku tylko jeden film\,  zobacz Nieplanowane…”– ta nieodosobniona opinia najlepiej oddaje wrażenie\,  jakie na milionach widzów za oceanem wywarł obraz dwójki amerykańskich reżyserów. Dzieło – ze względu na odzew społeczny – określono jako przełomowe\,  a nawet rewolucyjne! Dzieło – ze względu na odzew społeczny – określono jako[..]
URL:https://mdk.lubliniec.pl/events/kino-karolinka-nieplanowane/
END:VEVENT
END:VCALENDAR