

BEGIN:VCALENDAR
VERSION:2.0
PRODID:-//eventon.com NONSGML v1.0//EN
BEGIN:VEVENT
UID:69e4ec9c07e38
DTSTAMP:20260419T165420
DTSTART:20200402T220000Z
DTEND:20200407T215900Z
TZID:Europe/Warsaw
LOCATION:
SUMMARY:SEANS ODWOŁANY: Kino Karolinka: "Skłodowska"
DESCRIPTION: Opowieść o wielkiej odwadze\,  determinacji\,  miłości i geniuszu pewnej kobiety z dalekiej Polski\,  która zadziwiła naukowy Paryż\,  a wkrótce cały świat. Młoda\,  ambitna Maria Skłodowska przybywa do Francji\,  by na słynnej Sorbonie podjąć studia\,  które są jej wielkim marzeniem\,  a już wkrótce przyniosą przełom nie tylko w życiu młodej kobiety\,  ale całego świata. Początki jednak są trudne. Nikt nie traktuje poważnie naukowych planów i teorii\, [..]
URL:https://mdk.lubliniec.pl/events/seans-odwolany-kino-karolinka-sklodowska/
END:VEVENT
END:VCALENDAR