

BEGIN:VCALENDAR
VERSION:2.0
PRODID:-//eventon.com NONSGML v1.0//EN
BEGIN:VEVENT
UID:69e4ecb78342d
DTSTAMP:20260419T165447
DTSTART:20200213T230000Z
DTEND:20200218T225900Z
TZID:Europe/Warsaw
LOCATION:
SUMMARY:Kino Karolinka: "Doktor Dolittle"
DESCRIPTION: Po stracie żony\,  siedem lat wcześniej\,  ekscentryczny doktor John Dolittle\,  słynny naukowiec i lekarz weterynarii w wiktoriańskiej Anglii\,  wiedzie pustelniczy tryb życia\,  w otoczeniu menażerii swych egzotycznych zwierząt. Kiedy jednak młoda królowa zapada na śmiertelną chorobę\,  nieustraszony doktor wyrusza w pełną przygód podróż na mityczną wyspę\,  gdzie spodziewa się znaleźć lekarstwo dla królowej. Wykorzysta w tym swą odwagę[..]
URL:https://mdk.lubliniec.pl/events/kino-karolinka-doktor-dolittle/
END:VEVENT
END:VCALENDAR