

BEGIN:VCALENDAR
VERSION:2.0
PRODID:-//eventon.com NONSGML v1.0//EN
BEGIN:VEVENT
UID:69e4ecb395652
DTSTAMP:20260419T165443
DTSTART:20251016T220000Z
DTEND:20251021T215900Z
TZID:Europe/Warsaw
LOCATION:
SUMMARY:„SEKS DLA OPORNYCH” ( 2D ) PREMIERA
DESCRIPTION: Kiedy gramy?  &nbsp; piątek\,  17 październik\,  godzina\,  19:30 sobota\,  18 październik\,  godzina\,  19:30 niedziela\,  19 październik\,  godzina\,  19:30 poniedziałek\,  20 październik\,  godzina\,  19:30 wtorek\,  21 październik\,  godzina\,  19:30 &nbsp; Basia i Grzegorz\,  małżeństwo z 25-letnim stażem\,  zmagają się z rutyną i gasnącą namiętnością. Ich życie intymne stało się przewidywalne\,  a rozmowy[..]
URL:https://mdk.lubliniec.pl/events/seks-dla-opornych-2d-premiera/
END:VEVENT
END:VCALENDAR