

BEGIN:VCALENDAR
VERSION:2.0
PRODID:-//eventon.com NONSGML v1.0//EN
BEGIN:VEVENT
UID:69e4ecbbef0d8
DTSTAMP:20260419T165451
DTSTART:20251002T220000Z
DTEND:20251007T215900Z
TZID:Europe/Warsaw
LOCATION:
SUMMARY:„SUPER CHARLIE” ( 2D dubbing ) PREMIERA
DESCRIPTION: Kiedy gramy?  &nbsp; piątek\,  3 październik\,  godzina\,  15:00 sobota\,  4 październik\,  godzina\,  15:00 niedziela\,  5 październik\,  godzina\,  15:00 poniedziałek\,  6 październik\,  godzina\,  15:00 wtorek\,  7 październik\,  godzina\,  15:00 &nbsp; Dziesięcioletni Wille od zawsze marzył\,  by zostać superbohaterem i walczyć ze złem u boku swojego taty – odważnego policjanta. Wszystko się[..]
URL:https://mdk.lubliniec.pl/events/super-charlie-2d-dubbing-premiera/
END:VEVENT
END:VCALENDAR