

BEGIN:VCALENDAR
VERSION:2.0
PRODID:-//eventon.com NONSGML v1.0//EN
BEGIN:VEVENT
UID:69e736d349158
DTSTAMP:20260421T103531
DTSTART:20250823T220000Z
DTEND:20250826T215900Z
TZID:Europe/Warsaw
LOCATION:
SUMMARY:„ZAKRĘCONY PIĄTEK 2” ( 2D NAPISY )
DESCRIPTION: Kiedy gramy?  &nbsp; &nbsp; niedziela\,  24 sierpień\,  godzina\,  18:30 poniedziałek\,  25 sierpień\,  godzina\,  18:30 wtorek\,  26 sierpień\,  godzina\,  18:30 &nbsp; Tym razem fabuła produkcji skupi się ponownie wokół postaci Annabelle\,  która ma już nastoletnią córkę\,  a niebawem doczeka się także pasierbicy. Pewnego dnia w towarzystwie mamy udaje się do wróżki\, [..]
URL:https://mdk.lubliniec.pl/events/zakrecony-piatek-2-2d-napisy/
END:VEVENT
END:VCALENDAR