

BEGIN:VCALENDAR
VERSION:2.0
PRODID:-//eventon.com NONSGML v1.0//EN
BEGIN:VEVENT
UID:69e4ecb393dbb
DTSTAMP:20260419T165443
DTSTART:20250731T220000Z
DTEND:20250805T215900Z
TZID:Europe/Warsaw
LOCATION:
SUMMARY:„PAN WILK I SPÓŁKA 2” ( 2D ) PREMIERA
DESCRIPTION: Kiedy gramy?  &nbsp; piątek\,  1 sierpień\,  godzina\,  14:45 i 17:00 sobota\,  2 sierpień\,  godzina\,  14:45 i 17:00 niedziela\,  3 sierpień\,  godzina\,  14:45 i 17:00 poniedziałek\,  4 sierpień\,  godzina\,  14:45 i 17:00 wtorek\,  5 sierpień\,  godzina\,  14:45 i 17:00 &nbsp; Pan Wilk i spółka powracją i tym razem mają towarzystwo! Zreformowana[..]
URL:https://mdk.lubliniec.pl/events/pan-wilk-i-spolka-2-2d-premiera/
END:VEVENT
END:VCALENDAR