

BEGIN:VCALENDAR
VERSION:2.0
PRODID:-//eventon.com NONSGML v1.0//EN
BEGIN:VEVENT
UID:69e4ecbbf00c7
DTSTAMP:20260419T165451
DTSTART:20250717T220000Z
DTEND:20250722T215900Z
TZID:Europe/Warsaw
LOCATION:
SUMMARY:„SUPERMAN” ( 2D dubbing ) PREMIERA
DESCRIPTION: Kiedy gramy?  &nbsp; piątek\,  18 lipiec\,  godzina\,  17:00 sobota\,  19 lipiec\,  godzina\,  17:00 niedziela\,  20 lipiec\,  godzina\,  17:00 poniedziałek\,  21 lipiec\,  godzina\,  17:00 wtorek\,  22 lipiec\,  godzina\,  17:00 &nbsp; Superman próbuje pogodzić swoje dziedzictwo z ludzkim wychowaniem. Jest ucieleśnieniem prawdy\,  sprawiedliwości i ludzkiej drogi w świecie\,  który uważa te wartości[..]
URL:https://mdk.lubliniec.pl/events/superman-2d-dubbing/
END:VEVENT
END:VCALENDAR