

BEGIN:VCALENDAR
VERSION:2.0
PRODID:-//eventon.com NONSGML v1.0//EN
BEGIN:VEVENT
UID:69e929f6107d4
DTSTAMP:20260422T220510
DTSTART:20241219T230000Z
DTEND:20241223T225900Z
TZID:Europe/Warsaw
LOCATION:
SUMMARY:„MUFASA: KRÓL LEW” ( 2D dubbing ) PREMIERA
DESCRIPTION: Kiedy gramy?  &nbsp; piątek\,  20 grudnia\,  godzina\,  14:30 sobota\,  21 grudnia\,  godzina\,  14:30 niedziela\,  22 grudnia\,  godzina\,  14:30 poniedziałek\,  23 grudnia\,  godzina\,  14:30 &nbsp; Król Lwiej Ziemi Simba\,  starając się przekonać potomka do pójścia w swoje ślady\,  poznaje historie z życia własnego ojca &#8211; Mufasy. ZOBACZ ZWIASTUN FILM  gatunek: familijny\,  animacja\, [..]
URL:https://mdk.lubliniec.pl/events/mufasa-krol-lew-2d-dubbing-premiera/
END:VEVENT
END:VCALENDAR