

BEGIN:VCALENDAR
VERSION:2.0
PRODID:-//eventon.com NONSGML v1.0//EN
BEGIN:VEVENT
UID:69e4ecb6364a5
DTSTAMP:20260419T165446
DTSTART:20241111T160000Z
DTEND:20241111T180000Z
TZID:Europe/Warsaw
LOCATION:
SUMMARY:Koncert Patriotyczny
DESCRIPTION: Jak co roku Miejski Dom Kultury w Lublińcu włącza się w obchody Narodowego Święta Niepodległości. 11 listopada o godzinie 17:00 w sali widowiskowej MDK odbędzie się \, \, Koncert Patriotyczny’’ w wykonaniu Miejskiej Orkiestry Dętej Lubliniec pod batutą Bartłomieja Pięty\,  Zespołu Pieśni i Tańca \, \, Halka’’ oraz zaproszonych solistów: Magdaleny Meisel oraz Mateusza[..]
URL:https://mdk.lubliniec.pl/events/koncert-patriotyczny/
END:VEVENT
END:VCALENDAR