

BEGIN:VCALENDAR
VERSION:2.0
PRODID:-//eventon.com NONSGML v1.0//EN
BEGIN:VEVENT
UID:69e4ecbc0ae25
DTSTAMP:20260419T165452
DTSTART:20241019T050000Z
DTEND:20241019T070000Z
TZID:Pacific/Midway
LOCATION:
SUMMARY:Różowe Popołudnie
DESCRIPTION: Zapraszamy wszystkie kobiety – bez względu na wiek – na Różowe Popołudnie\,  które odbędzie się 18 października 2024 roku. Będzie to okazja do miłego spędzenia czasu w klimatycznej Galerii Pod Glinianym Aniołem\,  wypicia różowego caffe latte\,  rozmowy z innymi kobietami oraz uczestnictwa w wartościowych prelekcjach. Plan wieczoru przestawiamy poniżej: 18:00 Nosisz go codziennie\,  ale czy dobrze? Podstawy brafittingu dla każdej z nas – prowadzenie[..]
URL:https://mdk.lubliniec.pl/events/rozowe-popoludnie/
END:VEVENT
END:VCALENDAR