

BEGIN:VCALENDAR
VERSION:2.0
PRODID:-//eventon.com NONSGML v1.0//EN
BEGIN:VEVENT
UID:69e73ab269722
DTSTAMP:20260421T105202
DTSTART:20240919T220000Z
DTEND:20240924T215900Z
TZID:Europe/Warsaw
LOCATION:
SUMMARY:„RODZAJE ŻYCZLIWOŚCI” ( 2D napisy )
DESCRIPTION: Kiedy gramy?  &nbsp; piatek\,  20 września\,  godzina\,  19:00 sobota\,  21 września\,  godzina\,  19:00 niedziela\,  22 września\,  godzina\,  19:00 poniedziałek\,  23 września\,  godzina\,  19:00 wtorek\,  24 września\,  godzina\,  19:00 &nbsp; Na obraz składają się trzy pozornie odrębne nowele filmowe połączone &#8211; choć nie jedynie &#8211; osobami aktorów powracających w nowych wcieleniach. Odarty z[..]
URL:https://mdk.lubliniec.pl/events/rodzaje-zyczliwosci-2d-napisy/
END:VEVENT
END:VCALENDAR