

BEGIN:VCALENDAR
VERSION:2.0
PRODID:-//eventon.com NONSGML v1.0//EN
BEGIN:VEVENT
UID:69e4ecba02892
DTSTAMP:20260419T165450
DTSTART:20240213T100000Z
DTEND:20240311T170000Z
TZID:Europe/Warsaw
LOCATION:
SUMMARY:XVII Konkurs na Świąteczną Pisankę Wielkanocną
DESCRIPTION: Święta Wielkiej Nocy kojarzą nam się z wiosenną radością. Jajko jest symbolem nowego życia oraz odrodzenia. Kolorowe pisanki i kraszanki zdobią stół i cieszą oko. A może swój talent chcecie zaprezentować przed innymi?  Zapraszamy do udziału w XVII Konkursie na Świąteczną Pisankę Wielkanocną. Prace można składać w Miejskim Domu Kultury[..]
URL:https://mdk.lubliniec.pl/events/xvii-konkurs-na-swiateczna-pisanke-wielkanocna/
END:VEVENT
END:VCALENDAR