

BEGIN:VCALENDAR
VERSION:2.0
PRODID:-//eventon.com NONSGML v1.0//EN
BEGIN:VEVENT
UID:69e4ecb719ffb
DTSTAMP:20260419T165447
DTSTART:20230921T090000Z
DTEND:20230921T100000Z
TZID:Europe/Warsaw
LOCATION:
SUMMARY:Wystawa Warsztaty Terapii Zajęciowej
DESCRIPTION: Informujemy\,  że już 21 września 2023 roku o godzinie 11:00 na holu Miejskiego Domu Kultury w Lublińcu odbędzie się wernisaż wystawy prac Warsztatów Terapii Zajęciowej\,  które odbywają się przy Domu Pomocy Społecznej w Lublińcu na ulicy Kochcickiej 14. Na wystawie zobaczyć będzie można prezentacje pracowni: plastycznej\,  stolarskiej\,  gospodarstwa domowego\,  haftu\, [..]
URL:https://mdk.lubliniec.pl/events/wernisaz-wystawy-warsztaty-terapii-zajeciowej/
END:VEVENT
END:VCALENDAR