

BEGIN:VCALENDAR
VERSION:2.0
PRODID:-//eventon.com NONSGML v1.0//EN
BEGIN:VEVENT
UID:69e4ec719768e
DTSTAMP:20260419T165337
DTSTART:20230718T080000Z
DTEND:20230718T093300Z
TZID:Europe/Warsaw
LOCATION:
SUMMARY:„MIĘDZY NAMI ŻYWIOŁAMI” (2D DUBBING)
DESCRIPTION: Kiedy gramy?  &nbsp; wtorek\,  18 lipca\,  godzina 10.00 &nbsp; Para przeciwnych sobie żywiołów Ember i Wade wspólnie ratuje miasto przed zagładą. &nbsp; ZOBACZ ZWIASTUN FILMU reżyseria: Peter Sohn scenariusz: Brenda Hseuh gatunek: animacja\,  przygodowy produkcja: USA premiera: 14 lipca 2023 (Polska)
URL:https://mdk.lubliniec.pl/events/miedzy-nami-zywiolami-2d-dubbing-2/
END:VEVENT
END:VCALENDAR