

BEGIN:VCALENDAR
VERSION:2.0
PRODID:-//eventon.com NONSGML v1.0//EN
BEGIN:VEVENT
UID:69e4ecb364e9c
DTSTAMP:20260419T165443
DTSTART:20230511T160000Z
DTEND:20230511T180000Z
TZID:Europe/Warsaw
LOCATION:
SUMMARY:Klimakterium … i już // spektakl
DESCRIPTION: Super hit ostatnich sezonów. W ten sposób o sprawach kobiet nikt jeszcze nie mówił. Tak dowcipnie\,  otwarcie\,  z takim dystansem do siebie i poczuciem humoru\,  jak robią to bohaterki. Cztery wspaniałe aktorki\,  cztery &#8222;tygrysice w menopauzie&#8221; opowiadają i śpiewają o tym\,  co żadnej z pań nie ominie\,  co nieuchronne. I\, [..]
URL:https://mdk.lubliniec.pl/events/klimakterium-i-juz-spektakl/
END:VEVENT
END:VCALENDAR