

BEGIN:VCALENDAR
VERSION:2.0
PRODID:-//eventon.com NONSGML v1.0//EN
BEGIN:VEVENT
UID:69e4ecb572fb5
DTSTAMP:20260419T165445
DTSTART:20230309T230000Z
DTEND:20230314T225900Z
TZID:Europe/Warsaw
LOCATION:
SUMMARY:„WRÓŻKA ZĘBUSZKA” (2D DUBBING) PREMIERA
DESCRIPTION: Kiedy gramy?  &nbsp; piątek\,  10 marzec\,  godzina  17.00 sobota\,  11 marzec\,  godzina 15.00 niedziela\,  12 marzec\,  godzina  15.00 poniedziałek\,  13 marzec\,  godzina 17.00 wtorek\,  14 marzec\,  godzina 17.00 Sympatyczna Violetta szkoli się\,  żeby zostać Wróżką Zębuszką i móc wręczać dzieciom prezenty w zamian za ich mleczne zęby. Niestety mimo szczerszych chęci[..]
URL:https://mdk.lubliniec.pl/events/wrozka-zebuszka-2d-dubbing-premiera/
END:VEVENT
END:VCALENDAR