

BEGIN:VCALENDAR
VERSION:2.0
PRODID:-//eventon.com NONSGML v1.0//EN
BEGIN:VEVENT
UID:69e4ecb36ebf9
DTSTAMP:20260419T165443
DTSTART:20230309T230000Z
DTEND:20230314T225900Z
TZID:Europe/Warsaw
LOCATION:
SUMMARY:„HEAVEN IN HELL” (2D)
DESCRIPTION: Kiedy gramy?  &nbsp; piątek\,  10 marzec\,  godzina  19.00 sobota\,  11 marzec\,  godzina 19.00 niedziela\,  12 marzec\,  godzina  19.00 poniedziałek\,  13 marzec\,  godzina 19.00 wtorek\,  14 marzec\,  godzina 19.00 Czy dojrzałej kobiecie wolno się szaleńczo zakochać i rzucić w wir namiętności? Czy atrakcyjny facet\,  o którym marzą dziewczyny\,  może wybrać starszą partnerkę\, [..]
URL:https://mdk.lubliniec.pl/events/heaven-in-hell-2d/
END:VEVENT
END:VCALENDAR