

BEGIN:VCALENDAR
VERSION:2.0
PRODID:-//eventon.com NONSGML v1.0//EN
BEGIN:VEVENT
UID:69e8533bbe152
DTSTAMP:20260422T064859
DTSTART:20221111T020000Z
DTEND:20221111T030000Z
TZID:Pacific/Midway
LOCATION:
SUMMARY:Światowy Dzień Jeża // paczki kreatywne
DESCRIPTION: Nasi kolczaści przyjaciele potrzebują ochrony. Jeże są gatunkiem zagrożonym i jeśli nie zadbamy o ich dobro\,  w ciągu kilkunastu lat wyginą. Dlatego każdego roku uczestniczymy w Światowym Dniu Jeża\,  przygotowując dla Was różne niespodzianki. Tym razem mamy dla Was ulubione paczki kreatywne. Zajdziecie  w nich materiały potrzebne do wykonania własnego[..]
URL:https://mdk.lubliniec.pl/events/swiatowy-dzien-jeza/
END:VEVENT
END:VCALENDAR