

BEGIN:VCALENDAR
VERSION:2.0
PRODID:-//eventon.com NONSGML v1.0//EN
BEGIN:VEVENT
UID:69e4ecb37d6b7
DTSTAMP:20260419T165443
DTSTART:20221013T220000Z
DTEND:20221018T215900Z
TZID:Europe/Warsaw
LOCATION:
SUMMARY:„MIA I JA. FILM” (2D dubbing)
DESCRIPTION: Kiedy gramy?  &nbsp; piątek\,  14 października\,  godzina 17.00 sobota\,  15 października\,  godzina 17.00 niedziela\,  16 października\,  godzina 17.00 poniedziałek\,   17 października\,  godzina17.00 wtorek\,  18 października\,  godzina 17.00 Wewnątrz magicznej księgi kryje się przejście do innego świata\,  w którym zwykła dziewczynka może stać się wielką bohaterką. ZOBACZ ZWIASTUN FILMU reżyseria: Adam Gunn scenariusz: Fin Edquist / Gerhard Hahn[..]
URL:https://mdk.lubliniec.pl/events/mia-i-ja-film-2d-dubbing-kopiuj/
END:VEVENT
END:VCALENDAR