

BEGIN:VCALENDAR
VERSION:2.0
PRODID:-//eventon.com NONSGML v1.0//EN
BEGIN:VEVENT
UID:69e4ecb6035e0
DTSTAMP:20260419T165446
DTSTART:20220920T080000Z
DTEND:20220920T095000Z
TZID:Europe/Warsaw
LOCATION:
SUMMARY:„NOTRE- DAME PŁONIE” ( 2D napisy )
DESCRIPTION: Kiedy gramy?  &nbsp; sobota\,  17 września\,  godzina 15.00 niedziela\,   18 września\,  godzina 15.00 wtorek\,  20 września\,  godzina 10.00 &nbsp; 15 kwietnia 2019 roku dochodzi do pożaru w paryskiej katedrze Notre-Dame. Ratownicy robią wszystko\,  by ocalić zabytkową świątynię. &nbsp; ZOBACZ ZWIASTUN FILMU reżyseria: Jean- Jacques Annaud scenariusz: Jean- Jacques Annaud / Thomas Bidegain[..]
URL:https://mdk.lubliniec.pl/events/notre-dame-plonie-2d-napisy-2/
END:VEVENT
END:VCALENDAR