

BEGIN:VCALENDAR
VERSION:2.0
PRODID:-//eventon.com NONSGML v1.0//EN
BEGIN:VEVENT
UID:69e4ecb5b4365
DTSTAMP:20260419T165445
DTSTART:20220801T110000Z
DTEND:20220827T105900Z
TZID:Pacific/Midway
LOCATION:
SUMMARY:Apetyt na Lubliniec – edycja sierpień
DESCRIPTION: Kontynuujemy warsztaty z cyklu „Apetyt na Lubliniec” ?? Jaki przepis na udane wakacje mamy tym razem❓ ? Sznurek / 1-5 sierpnia\,  godz. 10.00-12.00 Była wełna ? teraz czas na sznurek ? Ale nie byle jaki – sznurek do makramy ? Będziecie tworzyć łapacze snów\,  breloczki\,  kwietniki i makramy ? Dorota[..]
URL:https://mdk.lubliniec.pl/events/apetyt-na-lubliniec-edycja-sierpien/
END:VEVENT
END:VCALENDAR