

BEGIN:VCALENDAR
VERSION:2.0
PRODID:-//eventon.com NONSGML v1.0//EN
BEGIN:VEVENT
UID:69e4ec9e91a02
DTSTAMP:20260419T165422
DTSTART:20220808T220000Z
DTEND:20220809T215900Z
TZID:Europe/Warsaw
LOCATION:
SUMMARY:„OGLIKI” ( 2D dubbing )
DESCRIPTION: Kiedy gramy?  &nbsp; piątek\,  5 sierpnia\,  godzina 10.00 wtorek\,  9 sierpnia\,  godzina 10.00 Rodzina Oglików szuka nowego domu. Trafia do przepięknej\,  spokojnej wioski Cuchniewo\,  która ma problem z lokalnym wysypiskiem śmieci. Wszystko składa się znakomicie\,  bo Ogliki żywią się śmieciami i mieszkają na śmietniskach. Wspaniała animacja o empatii\,  rodzinie i miłości oraz o tym\,  że[..]
URL:https://mdk.lubliniec.pl/events/ogliki-2d-dubbing-2/
END:VEVENT
END:VCALENDAR